BEGIN:VCALENDAR
VERSION:2.0
PRODID:-//Fit for His Service - ECPv6.15.20//NONSGML v1.0//EN
CALSCALE:GREGORIAN
METHOD:PUBLISH
X-WR-CALNAME:Fit for His Service
X-ORIGINAL-URL:https://fitforhisservice.org
X-WR-CALDESC:Events for Fit for His Service
REFRESH-INTERVAL;VALUE=DURATION:PT1H
X-Robots-Tag:noindex
X-PUBLISHED-TTL:PT1H
BEGIN:VTIMEZONE
TZID:UTC
BEGIN:STANDARD
TZOFFSETFROM:+0000
TZOFFSETTO:+0000
TZNAME:UTC
DTSTART:20250101T000000
END:STANDARD
END:VTIMEZONE
BEGIN:VEVENT
DTSTART;TZID=UTC:20260613T080000
DTEND;TZID=UTC:20260615T170000
DTSTAMP:20260419T212953
CREATED:20160512T090815Z
LAST-MODIFIED:20260106T194746Z
UID:934-1781337600-1781542800@fitforhisservice.org
SUMMARY:Proclaiming the Love of God
DESCRIPTION:(coming soon)
URL:https://fitforhisservice.org/event/proclaiming-the-love-of-god/
LOCATION:Preaching\,  224 Knight St\, Suffolk\, VA 23434\, Suffolk\, United States
ATTACH;FMTTYPE=image/jpeg:https://fitforhisservice.org/wp-content/uploads/2016/07/06-1.jpg
END:VEVENT
END:VCALENDAR