BEGIN:VCALENDAR
VERSION:2.0
PRODID:-//Fit for His Service - ECPv6.15.20//NONSGML v1.0//EN
CALSCALE:GREGORIAN
METHOD:PUBLISH
X-WR-CALNAME:Fit for His Service
X-ORIGINAL-URL:https://fitforhisservice.org
X-WR-CALDESC:Events for Fit for His Service
REFRESH-INTERVAL;VALUE=DURATION:PT1H
X-Robots-Tag:noindex
X-PUBLISHED-TTL:PT1H
BEGIN:VTIMEZONE
TZID:UTC
BEGIN:STANDARD
TZOFFSETFROM:+0000
TZOFFSETTO:+0000
TZNAME:UTC
DTSTART:20250101T000000
END:STANDARD
END:VTIMEZONE
BEGIN:VEVENT
DTSTART;TZID=UTC:20261107T100000
DTEND;TZID=UTC:20261109T170000
DTSTAMP:20260420T043214
CREATED:20160524T133708Z
LAST-MODIFIED:20260106T201425Z
UID:1839-1794045600-1794243600@fitforhisservice.org
SUMMARY:Experience God’s Presence
DESCRIPTION:
URL:https://fitforhisservice.org/event/experience-gods-presence/
LOCATION:Construction of Church\, New York \, New York\, United States
ATTACH;FMTTYPE=image/jpeg:https://fitforhisservice.org/wp-content/uploads/2016/07/03-2.jpg
ORGANIZER;CN="Church":MAILTO:Church@ch.com
END:VEVENT
END:VCALENDAR